BEGIN:VCALENDAR
VERSION:2.0
PRODID:-//wp-events-plugin.com//6.6.4.4//EN
TZID:Europe/London
X-WR-TIMEZONE:Europe/London
BEGIN:VEVENT
UID:15@paddingtonfarm.co.uk
DTSTART;TZID=Europe/London:20250626T193000
DTEND;TZID=Europe/London:20250626T220000
DTSTAMP:20250616T214711Z
URL:https://paddingtonfarm.co.uk/whats-on/glastonbury-folk-club-fireside-s
 ingaround/
SUMMARY:Glastonbury Folk Club Fireside Singaround
DESCRIPTION:Join Glastonbury Folk Club for their monthly singaround\, which
 \, over the summer months\, takes place around the campfire in our woodlan
 d (weather permitting!)\n\nFor more info please contact the Folk Club.\n\n
 &nbsp\;
END:VEVENT
BEGIN:VTIMEZONE
TZID:Europe/London
X-LIC-LOCATION:Europe/London
BEGIN:DAYLIGHT
DTSTART:20250330T020000
TZOFFSETFROM:+0000
TZOFFSETTO:+0100
TZNAME:BST
END:DAYLIGHT
END:VTIMEZONE
END:VCALENDAR