BEGIN:VCALENDAR
VERSION:2.0
PRODID:-//wp-events-plugin.com//6.6.4.4//EN
TZID:Europe/London
X-WR-TIMEZONE:Europe/London
BEGIN:VEVENT
UID:136@paddingtonfarm.co.uk
DTSTART;TZID=Europe/London:20260812T093000
DTEND;TZID=Europe/London:20260812T130000
DTSTAMP:20260107T113634Z
URL:https://paddingtonfarm.co.uk/whats-on/volunteer-morning-2026-08-12/
SUMMARY:Volunteer morning
DESCRIPTION:Join us for our weekly volunteer session - a great way to get o
 utside\, get active\, meet like-minded people\, and of course to help Padd
 ington Farm. There's always work to be done in our organic vegetable garde
 n\, and often seasonal tasks around the wider farm too.\n\nVolunteer morni
 ng starts at 9.30\, with a tea break at 11.00\; work finishes at 1.00pm an
 d then we provide a tasty vegetarian lunch for volunteers\, made with our 
 own organic produce.\n\nNew volunteers please contact the office first: 01
 458 832 752 or info@paddingtonfarm.co.uk
ATTACH;FMTTYPE=image/jpeg:https://paddingtonfarm.co.uk/wp-content/uploads/
 2026/01/Garden-volunteer-Nov-24.jpg
LOCATION:Paddington Farm\, Maidencroft Lane\, Glastonbury\,  Somerset\,  BA
 6 8JN\, United Kingdom
X-APPLE-STRUCTURED-LOCATION;VALUE=URI;X-ADDRESS=Maidencroft Lane\, Glastonb
 ury\,  Somerset\,  BA6 8JN\, United Kingdom;X-APPLE-RADIUS=100;X-TITLE=Pad
 dington Farm:geo:0,0
END:VEVENT
BEGIN:VTIMEZONE
TZID:Europe/London
X-LIC-LOCATION:Europe/London
BEGIN:DAYLIGHT
DTSTART:20260329T020000
TZOFFSETFROM:+0000
TZOFFSETTO:+0100
TZNAME:BST
END:DAYLIGHT
END:VTIMEZONE
END:VCALENDAR